
BEGIN:VCALENDAR
VERSION:2.0
PRODID:-// - ECPv6.15.17.1//NONSGML v1.0//EN
CALSCALE:GREGORIAN
METHOD:PUBLISH
X-ORIGINAL-URL:https://spl.fh-joanneum.at
X-WR-CALDESC:Veranstaltungen für 
REFRESH-INTERVAL;VALUE=DURATION:PT1H
X-Robots-Tag:noindex
X-PUBLISHED-TTL:PT1H
BEGIN:VTIMEZONE
TZID:Europe/Vienna
BEGIN:DAYLIGHT
TZOFFSETFROM:+0100
TZOFFSETTO:+0200
TZNAME:CEST
DTSTART:20230326T010000
END:DAYLIGHT
BEGIN:STANDARD
TZOFFSETFROM:+0200
TZOFFSETTO:+0100
TZNAME:CET
DTSTART:20231029T010000
END:STANDARD
BEGIN:DAYLIGHT
TZOFFSETFROM:+0100
TZOFFSETTO:+0200
TZNAME:CEST
DTSTART:20240331T010000
END:DAYLIGHT
BEGIN:STANDARD
TZOFFSETFROM:+0200
TZOFFSETTO:+0100
TZNAME:CET
DTSTART:20241027T010000
END:STANDARD
BEGIN:DAYLIGHT
TZOFFSETFROM:+0100
TZOFFSETTO:+0200
TZNAME:CEST
DTSTART:20250330T010000
END:DAYLIGHT
BEGIN:STANDARD
TZOFFSETFROM:+0200
TZOFFSETTO:+0100
TZNAME:CET
DTSTART:20251026T010000
END:STANDARD
END:VTIMEZONE
BEGIN:VEVENT
DTSTART;TZID=Europe/Vienna:20240604T160000
DTEND;TZID=Europe/Vienna:20240604T200000
DTSTAMP:20260422T075643
CREATED:20231002T084108Z
LAST-MODIFIED:20231002T084715Z
UID:2843-1717516800-1717531200@spl.fh-joanneum.at
SUMMARY:FabLab - Be the maker
DESCRIPTION:Komm vorbei und verwirkliche deine Ideen – egal ob 3D-Druck\, Lasercut oder Sandstrahlen\, wir stellen dir die ideale Infrastruktur zum Basteln bereit. Und keine Angst: Unser FabLab-Team steht dir für Fragen und Support jederzeit zur Verfügung. \nBasisschulungen gibt es jeweils um 16:15 Uhr und 17:30 Uhr\, damit du auch sicher im Lab arbeiten kannst.
URL:https://spl.fh-joanneum.at/veranstaltung/fablab-be-the-maker-33/
LOCATION:Smart Production Lab\, Werk-VI-Straße 46\, Kapfenberg\, 8605
CATEGORIES:FabLab
END:VEVENT
BEGIN:VEVENT
DTSTART;TZID=Europe/Vienna:20240618T160000
DTEND;TZID=Europe/Vienna:20240618T200000
DTSTAMP:20260422T075643
CREATED:20231002T084123Z
LAST-MODIFIED:20231002T084656Z
UID:2844-1718726400-1718740800@spl.fh-joanneum.at
SUMMARY:FabLab - Be the maker
DESCRIPTION:Komm vorbei und verwirkliche deine Ideen – egal ob 3D-Druck\, Lasercut oder Sandstrahlen\, wir stellen dir die ideale Infrastruktur zum Basteln bereit. Und keine Angst: Unser FabLab-Team steht dir für Fragen und Support jederzeit zur Verfügung. \nBasisschulungen gibt es jeweils um 16:15 Uhr und 17:30 Uhr\, damit du auch sicher im Lab arbeiten kannst.
URL:https://spl.fh-joanneum.at/veranstaltung/fablab-be-the-maker-34/
LOCATION:Smart Production Lab\, Werk-VI-Straße 46\, Kapfenberg\, 8605
CATEGORIES:FabLab
END:VEVENT
END:VCALENDAR