
BEGIN:VCALENDAR
VERSION:2.0
PRODID:-// - ECPv6.15.17.1//NONSGML v1.0//EN
CALSCALE:GREGORIAN
METHOD:PUBLISH
X-ORIGINAL-URL:https://spl.fh-joanneum.at
X-WR-CALDESC:Veranstaltungen für 
REFRESH-INTERVAL;VALUE=DURATION:PT1H
X-Robots-Tag:noindex
X-PUBLISHED-TTL:PT1H
BEGIN:VTIMEZONE
TZID:Europe/Berlin
BEGIN:DAYLIGHT
TZOFFSETFROM:+0100
TZOFFSETTO:+0200
TZNAME:CEST
DTSTART:20240331T010000
END:DAYLIGHT
BEGIN:STANDARD
TZOFFSETFROM:+0200
TZOFFSETTO:+0100
TZNAME:CET
DTSTART:20241027T010000
END:STANDARD
BEGIN:DAYLIGHT
TZOFFSETFROM:+0100
TZOFFSETTO:+0200
TZNAME:CEST
DTSTART:20250330T010000
END:DAYLIGHT
BEGIN:STANDARD
TZOFFSETFROM:+0200
TZOFFSETTO:+0100
TZNAME:CET
DTSTART:20251026T010000
END:STANDARD
BEGIN:DAYLIGHT
TZOFFSETFROM:+0100
TZOFFSETTO:+0200
TZNAME:CEST
DTSTART:20260329T010000
END:DAYLIGHT
BEGIN:STANDARD
TZOFFSETFROM:+0200
TZOFFSETTO:+0100
TZNAME:CET
DTSTART:20261025T010000
END:STANDARD
BEGIN:DAYLIGHT
TZOFFSETFROM:+0100
TZOFFSETTO:+0200
TZNAME:CEST
DTSTART:20270328T010000
END:DAYLIGHT
BEGIN:STANDARD
TZOFFSETFROM:+0200
TZOFFSETTO:+0100
TZNAME:CET
DTSTART:20271031T010000
END:STANDARD
END:VTIMEZONE
BEGIN:VTIMEZONE
TZID:Europe/Vienna
BEGIN:DAYLIGHT
TZOFFSETFROM:+0100
TZOFFSETTO:+0200
TZNAME:CEST
DTSTART:20230326T010000
END:DAYLIGHT
BEGIN:STANDARD
TZOFFSETFROM:+0200
TZOFFSETTO:+0100
TZNAME:CET
DTSTART:20231029T010000
END:STANDARD
BEGIN:DAYLIGHT
TZOFFSETFROM:+0100
TZOFFSETTO:+0200
TZNAME:CEST
DTSTART:20240331T010000
END:DAYLIGHT
BEGIN:STANDARD
TZOFFSETFROM:+0200
TZOFFSETTO:+0100
TZNAME:CET
DTSTART:20241027T010000
END:STANDARD
BEGIN:DAYLIGHT
TZOFFSETFROM:+0100
TZOFFSETTO:+0200
TZNAME:CEST
DTSTART:20250330T010000
END:DAYLIGHT
BEGIN:STANDARD
TZOFFSETFROM:+0200
TZOFFSETTO:+0100
TZNAME:CET
DTSTART:20251026T010000
END:STANDARD
BEGIN:DAYLIGHT
TZOFFSETFROM:+0100
TZOFFSETTO:+0200
TZNAME:CEST
DTSTART:20260329T010000
END:DAYLIGHT
BEGIN:STANDARD
TZOFFSETFROM:+0200
TZOFFSETTO:+0100
TZNAME:CET
DTSTART:20261025T010000
END:STANDARD
END:VTIMEZONE
BEGIN:VEVENT
DTSTART;TZID=Europe/Berlin:20260421T160000
DTEND;TZID=Europe/Berlin:20260421T200000
DTSTAMP:20260422T080653
CREATED:20260203T103753Z
LAST-MODIFIED:20260203T103753Z
UID:3426-1776787200-1776801600@spl.fh-joanneum.at
SUMMARY:FabLab - Be the maker
DESCRIPTION:Komm vorbei und verwirkliche deine Ideen – egal ob 3D-Druck\, Sandstrahlen\, Laser- oder Waterjetcut\, wir stellen dir die ideale Infrastruktur zum Basteln bereit. Und keine Angst: Unser FabLab-Team steht dir für Fragen und Support jederzeit zur Verfügung.\nBasisschulungen gibt es jeweils um 16:15 Uhr und 17:30 Uhr\, damit du auch sicher im Lab arbeiten kannst.
URL:https://spl.fh-joanneum.at/veranstaltung/fablab-be-the-maker-43/
LOCATION:Smart Production Lab\, Werk-VI-Straße 46\, Kapfenberg\, 8605
CATEGORIES:FabLab
ORGANIZER;CN="FH Joanneum":MAILTO:info@fh-joanneum.at
END:VEVENT
BEGIN:VEVENT
DTSTART;TZID=Europe/Berlin:20260407T160000
DTEND;TZID=Europe/Berlin:20260407T200000
DTSTAMP:20260422T080653
CREATED:20260203T103736Z
LAST-MODIFIED:20260203T103736Z
UID:3425-1775577600-1775592000@spl.fh-joanneum.at
SUMMARY:FabLab - Be the maker
DESCRIPTION:Komm vorbei und verwirkliche deine Ideen – egal ob 3D-Druck\, Sandstrahlen\, Laser- oder Waterjetcut\, wir stellen dir die ideale Infrastruktur zum Basteln bereit. Und keine Angst: Unser FabLab-Team steht dir für Fragen und Support jederzeit zur Verfügung.\nBasisschulungen gibt es jeweils um 16:15 Uhr und 17:30 Uhr\, damit du auch sicher im Lab arbeiten kannst.
URL:https://spl.fh-joanneum.at/veranstaltung/fablab-be-the-maker-42/
LOCATION:Smart Production Lab\, Werk-VI-Straße 46\, Kapfenberg\, 8605
CATEGORIES:FabLab
ORGANIZER;CN="FH Joanneum":MAILTO:info@fh-joanneum.at
END:VEVENT
BEGIN:VEVENT
DTSTART;TZID=Europe/Berlin:20260324T160000
DTEND;TZID=Europe/Berlin:20260324T200000
DTSTAMP:20260422T080653
CREATED:20260203T103710Z
LAST-MODIFIED:20260203T103710Z
UID:3424-1774368000-1774382400@spl.fh-joanneum.at
SUMMARY:FabLab Osterspecial - Be the maker
DESCRIPTION:Komm vorbei und verwirkliche deine Ideen – egal ob 3D-Druck\, Sandstrahlen\, Laser- oder Waterjetcut\, wir stellen dir die ideale Infrastruktur zum Basteln bereit. Und keine Angst: Unser FabLab-Team steht dir für Fragen und Support jederzeit zur Verfügung.\nBasisschulungen gibt es jeweils um 16:15 Uhr und 17:30 Uhr\, damit du auch sicher im Lab arbeiten kannst.
URL:https://spl.fh-joanneum.at/veranstaltung/fablab-osterspecial-be-the-maker-5/
LOCATION:Smart Production Lab\, Werk-VI-Straße 46\, Kapfenberg\, 8605
CATEGORIES:FabLab
ORGANIZER;CN="FH Joanneum":MAILTO:info@fh-joanneum.at
END:VEVENT
BEGIN:VEVENT
DTSTART;TZID=Europe/Berlin:20260317T160000
DTEND;TZID=Europe/Berlin:20260317T200000
DTSTAMP:20260422T080653
CREATED:20260203T103642Z
LAST-MODIFIED:20260203T103955Z
UID:3423-1773763200-1773777600@spl.fh-joanneum.at
SUMMARY:FabLab - Be the maker
DESCRIPTION:Komm vorbei und verwirkliche deine Ideen – egal ob 3D-Druck\, Sandstrahlen\, Laser- oder Waterjetcut\, wir stellen dir die ideale Infrastruktur zum Basteln bereit. Und keine Angst: Unser FabLab-Team steht dir für Fragen und Support jederzeit zur Verfügung.\nBasisschulungen gibt es jeweils um 16:15 Uhr und 17:30 Uhr\, damit du auch sicher im Lab arbeiten kannst.
URL:https://spl.fh-joanneum.at/veranstaltung/fablab-be-the-maker-41/
LOCATION:Smart Production Lab\, Werk-VI-Straße 46\, Kapfenberg\, 8605
CATEGORIES:FabLab
ORGANIZER;CN="FH Joanneum":MAILTO:info@fh-joanneum.at
END:VEVENT
BEGIN:VEVENT
DTSTART;TZID=Europe/Berlin:20260303T160000
DTEND;TZID=Europe/Berlin:20260303T200000
DTSTAMP:20260422T080653
CREATED:20260203T102958Z
LAST-MODIFIED:20260203T103947Z
UID:3421-1772553600-1772568000@spl.fh-joanneum.at
SUMMARY:FabLab - Be the maker
DESCRIPTION:Komm vorbei und verwirkliche deine Ideen – egal ob 3D-Druck\, Lasercut oder Sandstrahlen\, wir stellen dir die ideale Infrastruktur zum Basteln bereit. Und keine Angst: Unser FabLab-Team steht dir für Fragen und Support jederzeit zur Verfügung.\nBasisschulungen gibt es jeweils um 16:15 Uhr und 17:30 Uhr\, damit du auch sicher im Lab arbeiten kannst.
URL:https://spl.fh-joanneum.at/veranstaltung/fablab-be-the-maker-40/
LOCATION:Smart Production Lab\, Werk-VI-Straße 46\, Kapfenberg\, 8605
CATEGORIES:FabLab
ORGANIZER;CN="FH Joanneum":MAILTO:info@fh-joanneum.at
END:VEVENT
BEGIN:VEVENT
DTSTART;TZID=Europe/Berlin:20260210T160000
DTEND;TZID=Europe/Berlin:20260210T200000
DTSTAMP:20260422T080653
CREATED:20250924T182153Z
LAST-MODIFIED:20250924T182153Z
UID:3371-1770739200-1770753600@spl.fh-joanneum.at
SUMMARY:FabLab - Be the maker
DESCRIPTION:Komm vorbei und verwirkliche deine Ideen – egal ob 3D-Druck\, Lasercut oder Sandstrahlen\, wir stellen dir die ideale Infrastruktur zum Basteln bereit. Und keine Angst: Unser FabLab-Team steht dir für Fragen und Support jederzeit zur Verfügung.\nBasisschulungen gibt es jeweils um 16:15 Uhr und 17:30 Uhr\, damit du auch sicher im Lab arbeiten kannst.
URL:https://spl.fh-joanneum.at/veranstaltung/fablab-be-the-maker-39/
LOCATION:Smart Production Lab\, Werk-VI-Straße 46\, Kapfenberg\, 8605
CATEGORIES:FabLab
END:VEVENT
BEGIN:VEVENT
DTSTART;TZID=Europe/Berlin:20260127T160000
DTEND;TZID=Europe/Berlin:20260127T200000
DTSTAMP:20260422T080653
CREATED:20250924T182102Z
LAST-MODIFIED:20250924T182102Z
UID:3369-1769529600-1769544000@spl.fh-joanneum.at
SUMMARY:FabLab - Be the maker
DESCRIPTION:Komm vorbei und verwirkliche deine Ideen – egal ob 3D-Druck\, Lasercut oder Sandstrahlen\, wir stellen dir die ideale Infrastruktur zum Basteln bereit. Und keine Angst: Unser FabLab-Team steht dir für Fragen und Support jederzeit zur Verfügung.\nBasisschulungen gibt es jeweils um 16:15 Uhr und 17:30 Uhr\, damit du auch sicher im Lab arbeiten kannst.
URL:https://spl.fh-joanneum.at/veranstaltung/fablab-be-the-maker-38/
LOCATION:Smart Production Lab\, Werk-VI-Straße 46\, Kapfenberg\, 8605
CATEGORIES:FabLab
END:VEVENT
BEGIN:VEVENT
DTSTART;TZID=Europe/Berlin:20260113T160000
DTEND;TZID=Europe/Berlin:20260113T200000
DTSTAMP:20260422T080653
CREATED:20250924T182000Z
LAST-MODIFIED:20250924T182000Z
UID:3367-1768320000-1768334400@spl.fh-joanneum.at
SUMMARY:FabLab - Be the maker
DESCRIPTION:Komm vorbei und verwirkliche deine Ideen – egal ob 3D-Druck\, Lasercut oder Sandstrahlen\, wir stellen dir die ideale Infrastruktur zum Basteln bereit. Und keine Angst: Unser FabLab-Team steht dir für Fragen und Support jederzeit zur Verfügung.\nBasisschulungen gibt es jeweils um 16:15 Uhr und 17:30 Uhr\, damit du auch sicher im Lab arbeiten kannst.
URL:https://spl.fh-joanneum.at/veranstaltung/fablab-be-the-maker-37/
LOCATION:Smart Production Lab\, Werk-VI-Straße 46\, Kapfenberg\, 8605
CATEGORIES:FabLab
END:VEVENT
BEGIN:VEVENT
DTSTART;TZID=Europe/Berlin:20251216T160000
DTEND;TZID=Europe/Berlin:20251216T200000
DTSTAMP:20260422T080653
CREATED:20250924T181840Z
LAST-MODIFIED:20260203T100550Z
UID:3365-1765900800-1765915200@spl.fh-joanneum.at
SUMMARY:FabLab - Be the maker Weihnachtsspecial
DESCRIPTION:Komm vorbei und verwirkliche deine Ideen – egal ob 3D-Druck\, Lasercut oder Sandstrahlen\, wir stellen dir die ideale Infrastruktur zum Basteln bereit. Und keine Angst: Unser FabLab-Team steht dir für Fragen und Support jederzeit zur Verfügung.\nBasisschulungen gibt es jeweils um 16:15 Uhr und 17:30 Uhr\, damit du auch sicher im Lab arbeiten kannst.
URL:https://spl.fh-joanneum.at/veranstaltung/fablab-be-the-maker-weihnachtsspecial/
LOCATION:Smart Production Lab\, Werk-VI-Straße 46\, Kapfenberg\, 8605
CATEGORIES:FabLab
END:VEVENT
BEGIN:VEVENT
DTSTART;TZID=Europe/Berlin:20251202T160000
DTEND;TZID=Europe/Berlin:20251202T200000
DTSTAMP:20260422T080653
CREATED:20250924T181735Z
LAST-MODIFIED:20250924T181735Z
UID:3363-1764691200-1764705600@spl.fh-joanneum.at
SUMMARY:FabLab - Be the maker
DESCRIPTION:Komm vorbei und verwirkliche deine Ideen – egal ob 3D-Druck\, Lasercut oder Sandstrahlen\, wir stellen dir die ideale Infrastruktur zum Basteln bereit. Und keine Angst: Unser FabLab-Team steht dir für Fragen und Support jederzeit zur Verfügung.\nBasisschulungen gibt es jeweils um 16:15 Uhr und 17:30 Uhr\, damit du auch sicher im Lab arbeiten kannst.
URL:https://spl.fh-joanneum.at/veranstaltung/fablab-be-the-maker-36/
LOCATION:Smart Production Lab\, Werk-VI-Straße 46\, Kapfenberg\, 8605
CATEGORIES:FabLab
END:VEVENT
BEGIN:VEVENT
DTSTART;TZID=Europe/Berlin:20251118T160000
DTEND;TZID=Europe/Berlin:20251118T200000
DTSTAMP:20260422T080653
CREATED:20250924T181616Z
LAST-MODIFIED:20250924T181616Z
UID:3361-1763481600-1763496000@spl.fh-joanneum.at
SUMMARY:FabLab - Be the maker
DESCRIPTION:Komm vorbei und verwirkliche deine Ideen – egal ob 3D-Druck\, Lasercut oder Sandstrahlen\, wir stellen dir die ideale Infrastruktur zum Basteln bereit. Und keine Angst: Unser FabLab-Team steht dir für Fragen und Support jederzeit zur Verfügung.\nBasisschulungen gibt es jeweils um 16:15 Uhr und 17:30 Uhr\, damit du auch sicher im Lab arbeiten kannst.
URL:https://spl.fh-joanneum.at/veranstaltung/fablab-be-the-maker-19/
LOCATION:Smart Production Lab\, Werk-VI-Straße 46\, Kapfenberg\, 8605
CATEGORIES:FabLab
END:VEVENT
BEGIN:VEVENT
DTSTART;TZID=Europe/Berlin:20251104T160000
DTEND;TZID=Europe/Berlin:20251104T200000
DTSTAMP:20260422T080653
CREATED:20250924T181514Z
LAST-MODIFIED:20250924T181514Z
UID:3359-1762272000-1762286400@spl.fh-joanneum.at
SUMMARY:FabLab - Be the maker
DESCRIPTION:Komm vorbei und verwirkliche deine Ideen – egal ob 3D-Druck\, Lasercut oder Sandstrahlen\, wir stellen dir die ideale Infrastruktur zum Basteln bereit. Und keine Angst: Unser FabLab-Team steht dir für Fragen und Support jederzeit zur Verfügung.\nBasisschulungen gibt es jeweils um 16:15 Uhr und 17:30 Uhr\, damit du auch sicher im Lab arbeiten kannst.
URL:https://spl.fh-joanneum.at/veranstaltung/fablab-be-the-maker-18/
LOCATION:Smart Production Lab\, Werk-VI-Straße 46\, Kapfenberg\, 8605
CATEGORIES:FabLab
END:VEVENT
BEGIN:VEVENT
DTSTART;TZID=Europe/Berlin:20251021T160000
DTEND;TZID=Europe/Berlin:20251021T200000
DTSTAMP:20260422T080653
CREATED:20250924T181402Z
LAST-MODIFIED:20250924T181402Z
UID:3357-1761062400-1761076800@spl.fh-joanneum.at
SUMMARY:FabLab - Be the maker
DESCRIPTION:Komm vorbei und verwirkliche deine Ideen – egal ob 3D-Druck\, Lasercut oder Sandstrahlen\, wir stellen dir die ideale Infrastruktur zum Basteln bereit. Und keine Angst: Unser FabLab-Team steht dir für Fragen und Support jederzeit zur Verfügung.\nBasisschulungen gibt es jeweils um 16:15 Uhr und 17:30 Uhr\, damit du auch sicher im Lab arbeiten kannst.
URL:https://spl.fh-joanneum.at/veranstaltung/fablab-be-the-maker-17/
LOCATION:Smart Production Lab\, Werk-VI-Straße 46\, Kapfenberg\, 8605
CATEGORIES:FabLab
END:VEVENT
BEGIN:VEVENT
DTSTART;TZID=Europe/Berlin:20251007T160000
DTEND;TZID=Europe/Berlin:20251007T200000
DTSTAMP:20260422T080653
CREATED:20250924T181232Z
LAST-MODIFIED:20250924T181232Z
UID:3354-1759852800-1759867200@spl.fh-joanneum.at
SUMMARY:FabLab - Be the maker
DESCRIPTION:Komm vorbei und verwirkliche deine Ideen – egal ob 3D-Druck\, Lasercut oder Sandstrahlen\, wir stellen dir die ideale Infrastruktur zum Basteln bereit. Und keine Angst: Unser FabLab-Team steht dir für Fragen und Support jederzeit zur Verfügung.\nBasisschulungen gibt es jeweils um 16:15 Uhr und 17:30 Uhr\, damit du auch sicher im Lab arbeiten kannst.
URL:https://spl.fh-joanneum.at/veranstaltung/fablab-be-the-maker-16/
LOCATION:Smart Production Lab\, Werk-VI-Straße 46\, Kapfenberg\, 8605
CATEGORIES:FabLab
END:VEVENT
BEGIN:VEVENT
DTSTART;TZID=Europe/Berlin:20250930T160000
DTEND;TZID=Europe/Berlin:20250930T200000
DTSTAMP:20260422T080653
CREATED:20250924T181035Z
LAST-MODIFIED:20250924T181303Z
UID:3352-1759248000-1759262400@spl.fh-joanneum.at
SUMMARY:FabLab - Be the maker
DESCRIPTION:Komm vorbei und verwirkliche deine Ideen – egal ob 3D-Druck\, Lasercut oder Sandstrahlen\, wir stellen dir die ideale Infrastruktur zum Basteln bereit. Und keine Angst: Unser FabLab-Team steht dir für Fragen und Support jederzeit zur Verfügung.\nBasisschulungen gibt es jeweils um 16:15 Uhr und 17:30 Uhr\, damit du auch sicher im Lab arbeiten kannst.
URL:https://spl.fh-joanneum.at/veranstaltung/fablab-be-the-maker-15/
LOCATION:Smart Production Lab\, Werk-VI-Straße 46\, Kapfenberg\, 8605
CATEGORIES:FabLab
END:VEVENT
BEGIN:VEVENT
DTSTART;TZID=Europe/Vienna:20250701T160000
DTEND;TZID=Europe/Vienna:20250701T200000
DTSTAMP:20260422T080653
CREATED:20240918T062233Z
LAST-MODIFIED:20240920T110751Z
UID:3172-1751385600-1751400000@spl.fh-joanneum.at
SUMMARY:FabLab Closing - Be the maker
DESCRIPTION:Komm vorbei und verwirkliche deine Ideen – egal ob 3D-Druck\, Lasercut oder Sandstrahlen\, wir stellen dir die ideale Infrastruktur zum Basteln bereit. Und keine Angst: Unser FabLab-Team steht dir für Fragen und Support jederzeit zur Verfügung.\nBasisschulungen gibt es jeweils um 16:15 Uhr und 17:30 Uhr\, damit du auch sicher im Lab arbeiten kannst.
URL:https://spl.fh-joanneum.at/veranstaltung/fablab-closing-be-the-maker/
LOCATION:Smart Production Lab\, Werk-VI-Straße 46\, Kapfenberg\, 8605
CATEGORIES:FabLab
END:VEVENT
BEGIN:VEVENT
DTSTART;TZID=Europe/Vienna:20250624T160000
DTEND;TZID=Europe/Vienna:20250624T200000
DTSTAMP:20260422T080653
CREATED:20240918T062233Z
LAST-MODIFIED:20240920T110703Z
UID:3171-1750780800-1750795200@spl.fh-joanneum.at
SUMMARY:FabLab - Be the maker
DESCRIPTION:Komm vorbei und verwirkliche deine Ideen – egal ob 3D-Druck\, Lasercut oder Sandstrahlen\, wir stellen dir die ideale Infrastruktur zum Basteln bereit. Und keine Angst: Unser FabLab-Team steht dir für Fragen und Support jederzeit zur Verfügung.\nBasisschulungen gibt es jeweils um 16:15 Uhr und 17:30 Uhr\, damit du auch sicher im Lab arbeiten kannst.
URL:https://spl.fh-joanneum.at/veranstaltung/fablab-be-the-maker-14/
LOCATION:Smart Production Lab\, Werk-VI-Straße 46\, Kapfenberg\, 8605
CATEGORIES:FabLab
END:VEVENT
BEGIN:VEVENT
DTSTART;TZID=Europe/Vienna:20250610T160000
DTEND;TZID=Europe/Vienna:20250610T200000
DTSTAMP:20260422T080653
CREATED:20240918T062218Z
LAST-MODIFIED:20240918T062218Z
UID:3170-1749571200-1749585600@spl.fh-joanneum.at
SUMMARY:FabLab - Be the maker
DESCRIPTION:Komm vorbei und verwirkliche deine Ideen – egal ob 3D-Druck\, Lasercut oder Sandstrahlen\, wir stellen dir die ideale Infrastruktur zum Basteln bereit. Und keine Angst: Unser FabLab-Team steht dir für Fragen und Support jederzeit zur Verfügung.\nBasisschulungen gibt es jeweils um 16:15 Uhr und 17:30 Uhr\, damit du auch sicher im Lab arbeiten kannst.
URL:https://spl.fh-joanneum.at/veranstaltung/fablab-be-the-maker-13/
LOCATION:Smart Production Lab\, Werk-VI-Straße 46\, Kapfenberg\, 8605
CATEGORIES:FabLab
END:VEVENT
BEGIN:VEVENT
DTSTART;TZID=Europe/Vienna:20250527T160000
DTEND;TZID=Europe/Vienna:20250527T200000
DTSTAMP:20260422T080653
CREATED:20240918T062218Z
LAST-MODIFIED:20240918T062218Z
UID:3169-1748361600-1748376000@spl.fh-joanneum.at
SUMMARY:FabLab - Be the maker
DESCRIPTION:Komm vorbei und verwirkliche deine Ideen – egal ob 3D-Druck\, Lasercut oder Sandstrahlen\, wir stellen dir die ideale Infrastruktur zum Basteln bereit. Und keine Angst: Unser FabLab-Team steht dir für Fragen und Support jederzeit zur Verfügung.\nBasisschulungen gibt es jeweils um 16:15 Uhr und 17:30 Uhr\, damit du auch sicher im Lab arbeiten kannst.
URL:https://spl.fh-joanneum.at/veranstaltung/fablab-be-the-maker-12/
LOCATION:Smart Production Lab\, Werk-VI-Straße 46\, Kapfenberg\, 8605
CATEGORIES:FabLab
END:VEVENT
BEGIN:VEVENT
DTSTART;TZID=Europe/Vienna:20250513T160000
DTEND;TZID=Europe/Vienna:20250513T200000
DTSTAMP:20260422T080653
CREATED:20240918T062218Z
LAST-MODIFIED:20240918T062218Z
UID:3168-1747152000-1747166400@spl.fh-joanneum.at
SUMMARY:FabLab - Be the maker
DESCRIPTION:Komm vorbei und verwirkliche deine Ideen – egal ob 3D-Druck\, Lasercut oder Sandstrahlen\, wir stellen dir die ideale Infrastruktur zum Basteln bereit. Und keine Angst: Unser FabLab-Team steht dir für Fragen und Support jederzeit zur Verfügung.\nBasisschulungen gibt es jeweils um 16:15 Uhr und 17:30 Uhr\, damit du auch sicher im Lab arbeiten kannst.
URL:https://spl.fh-joanneum.at/veranstaltung/fablab-be-the-maker-11/
LOCATION:Smart Production Lab\, Werk-VI-Straße 46\, Kapfenberg\, 8605
CATEGORIES:FabLab
END:VEVENT
BEGIN:VEVENT
DTSTART;TZID=Europe/Vienna:20250429T160000
DTEND;TZID=Europe/Vienna:20250429T200000
DTSTAMP:20260422T080653
CREATED:20240918T062218Z
LAST-MODIFIED:20240918T062218Z
UID:3167-1745942400-1745956800@spl.fh-joanneum.at
SUMMARY:FabLab - Be the maker
DESCRIPTION:Komm vorbei und verwirkliche deine Ideen – egal ob 3D-Druck\, Lasercut oder Sandstrahlen\, wir stellen dir die ideale Infrastruktur zum Basteln bereit. Und keine Angst: Unser FabLab-Team steht dir für Fragen und Support jederzeit zur Verfügung.\nBasisschulungen gibt es jeweils um 16:15 Uhr und 17:30 Uhr\, damit du auch sicher im Lab arbeiten kannst.
URL:https://spl.fh-joanneum.at/veranstaltung/fablab-be-the-maker-10/
LOCATION:Smart Production Lab\, Werk-VI-Straße 46\, Kapfenberg\, 8605
CATEGORIES:FabLab
END:VEVENT
BEGIN:VEVENT
DTSTART;TZID=Europe/Vienna:20250416T160000
DTEND;TZID=Europe/Vienna:20250416T200000
DTSTAMP:20260422T080653
CREATED:20240918T062218Z
LAST-MODIFIED:20250109T081850Z
UID:3166-1744819200-1744833600@spl.fh-joanneum.at
SUMMARY:FabLab Osterspecial - Be the maker
DESCRIPTION:Komm vorbei und verwirkliche deine Ideen – egal ob 3D-Druck\, Lasercut oder Sandstrahlen\, wir stellen dir die ideale Infrastruktur zum Basteln bereit. Und keine Angst: Unser FabLab-Team steht dir für Fragen und Support jederzeit zur Verfügung.\nBasisschulungen gibt es jeweils um 16:15 Uhr und 17:30 Uhr\, damit du auch sicher im Lab arbeiten kannst.
URL:https://spl.fh-joanneum.at/veranstaltung/fablab-be-the-maker-9/
LOCATION:Smart Production Lab\, Werk-VI-Straße 46\, Kapfenberg\, 8605
CATEGORIES:FabLab
END:VEVENT
BEGIN:VEVENT
DTSTART;TZID=Europe/Berlin:20250415T160000
DTEND;TZID=Europe/Berlin:20250415T200000
DTSTAMP:20260422T080653
CREATED:20250109T082055Z
LAST-MODIFIED:20250109T082055Z
UID:3285-1744732800-1744747200@spl.fh-joanneum.at
SUMMARY:FabLab Osterspecial - Be the maker
DESCRIPTION:Komm vorbei und verwirkliche deine Ideen – egal ob 3D-Druck\, Lasercut oder Sandstrahlen\, wir stellen dir die ideale Infrastruktur zum Basteln bereit. Und keine Angst: Unser FabLab-Team steht dir für Fragen und Support jederzeit zur Verfügung.\nBasisschulungen gibt es jeweils um 16:15 Uhr und 17:30 Uhr\, damit du auch sicher im Lab arbeiten kannst.
URL:https://spl.fh-joanneum.at/veranstaltung/fablab-osterspecial-be-the-maker-4/
LOCATION:Smart Production Lab\, Werk-VI-Straße 46\, Kapfenberg\, 8605
CATEGORIES:FabLab
END:VEVENT
BEGIN:VEVENT
DTSTART;TZID=Europe/Vienna:20250401T160000
DTEND;TZID=Europe/Vienna:20250401T200000
DTSTAMP:20260422T080653
CREATED:20240918T062203Z
LAST-MODIFIED:20250109T081748Z
UID:3164-1743523200-1743537600@spl.fh-joanneum.at
SUMMARY:FabLab - Be the maker
DESCRIPTION:Komm vorbei und verwirkliche deine Ideen – egal ob 3D-Druck\, Lasercut oder Sandstrahlen\, wir stellen dir die ideale Infrastruktur zum Basteln bereit. Und keine Angst: Unser FabLab-Team steht dir für Fragen und Support jederzeit zur Verfügung.\nBasisschulungen gibt es jeweils um 16:15 Uhr und 17:30 Uhr\, damit du auch sicher im Lab arbeiten kannst.
URL:https://spl.fh-joanneum.at/veranstaltung/fablab-osterspecial-be-the-maker/
LOCATION:Smart Production Lab\, Werk-VI-Straße 46\, Kapfenberg\, 8605
CATEGORIES:FabLab
END:VEVENT
BEGIN:VEVENT
DTSTART;TZID=Europe/Vienna:20250318T160000
DTEND;TZID=Europe/Vienna:20250318T200000
DTSTAMP:20260422T080653
CREATED:20240918T062203Z
LAST-MODIFIED:20240918T062203Z
UID:3163-1742313600-1742328000@spl.fh-joanneum.at
SUMMARY:FabLab - Be the maker
DESCRIPTION:Komm vorbei und verwirkliche deine Ideen – egal ob 3D-Druck\, Lasercut oder Sandstrahlen\, wir stellen dir die ideale Infrastruktur zum Basteln bereit. Und keine Angst: Unser FabLab-Team steht dir für Fragen und Support jederzeit zur Verfügung.\nBasisschulungen gibt es jeweils um 16:15 Uhr und 17:30 Uhr\, damit du auch sicher im Lab arbeiten kannst.
URL:https://spl.fh-joanneum.at/veranstaltung/fablab-be-the-maker-8/
LOCATION:Smart Production Lab\, Werk-VI-Straße 46\, Kapfenberg\, 8605
CATEGORIES:FabLab
END:VEVENT
BEGIN:VEVENT
DTSTART;TZID=Europe/Vienna:20250211T160000
DTEND;TZID=Europe/Vienna:20250211T200000
DTSTAMP:20260422T080653
CREATED:20240918T062203Z
LAST-MODIFIED:20240918T062203Z
UID:3161-1739289600-1739304000@spl.fh-joanneum.at
SUMMARY:FabLab - Be the maker
DESCRIPTION:Komm vorbei und verwirkliche deine Ideen – egal ob 3D-Druck\, Lasercut oder Sandstrahlen\, wir stellen dir die ideale Infrastruktur zum Basteln bereit. Und keine Angst: Unser FabLab-Team steht dir für Fragen und Support jederzeit zur Verfügung.\nBasisschulungen gibt es jeweils um 16:15 Uhr und 17:30 Uhr\, damit du auch sicher im Lab arbeiten kannst.
URL:https://spl.fh-joanneum.at/veranstaltung/fablab-be-the-maker-7/
LOCATION:Smart Production Lab\, Werk-VI-Straße 46\, Kapfenberg\, 8605
CATEGORIES:FabLab
END:VEVENT
BEGIN:VEVENT
DTSTART;TZID=Europe/Vienna:20250128T160000
DTEND;TZID=Europe/Vienna:20250128T200000
DTSTAMP:20260422T080653
CREATED:20240918T062147Z
LAST-MODIFIED:20240918T062148Z
UID:3155-1738080000-1738094400@spl.fh-joanneum.at
SUMMARY:FabLab - Be the maker
DESCRIPTION:Komm vorbei und verwirkliche deine Ideen – egal ob 3D-Druck\, Lasercut oder Sandstrahlen\, wir stellen dir die ideale Infrastruktur zum Basteln bereit. Und keine Angst: Unser FabLab-Team steht dir für Fragen und Support jederzeit zur Verfügung.\nBasisschulungen gibt es jeweils um 16:15 Uhr und 17:30 Uhr\, damit du auch sicher im Lab arbeiten kannst.
URL:https://spl.fh-joanneum.at/veranstaltung/fablab-be-the-maker-6/
LOCATION:Smart Production Lab\, Werk-VI-Straße 46\, Kapfenberg\, 8605
CATEGORIES:FabLab
END:VEVENT
BEGIN:VEVENT
DTSTART;TZID=Europe/Vienna:20250114T160000
DTEND;TZID=Europe/Vienna:20250114T200000
DTSTAMP:20260422T080653
CREATED:20240918T062147Z
LAST-MODIFIED:20240918T062148Z
UID:3154-1736870400-1736884800@spl.fh-joanneum.at
SUMMARY:FabLab - Be the maker
DESCRIPTION:Komm vorbei und verwirkliche deine Ideen – egal ob 3D-Druck\, Lasercut oder Sandstrahlen\, wir stellen dir die ideale Infrastruktur zum Basteln bereit. Und keine Angst: Unser FabLab-Team steht dir für Fragen und Support jederzeit zur Verfügung.\nBasisschulungen gibt es jeweils um 16:15 Uhr und 17:30 Uhr\, damit du auch sicher im Lab arbeiten kannst.
URL:https://spl.fh-joanneum.at/veranstaltung/fablab-be-the-maker-5/
LOCATION:Smart Production Lab\, Werk-VI-Straße 46\, Kapfenberg\, 8605
CATEGORIES:FabLab
END:VEVENT
BEGIN:VEVENT
DTSTART;TZID=Europe/Vienna:20241218T160000
DTEND;TZID=Europe/Vienna:20241218T200000
DTSTAMP:20260422T080653
CREATED:20240918T062147Z
LAST-MODIFIED:20240918T062148Z
UID:3152-1734537600-1734552000@spl.fh-joanneum.at
SUMMARY:FabLab Weihnachtsspecial - Be the maker
DESCRIPTION:Komm vorbei und verwirkliche deine Ideen – egal ob 3D-Druck\, Lasercut oder Sandstrahlen\, wir stellen dir die ideale Infrastruktur zum Basteln bereit. Und keine Angst: Unser FabLab-Team steht dir für Fragen und Support jederzeit zur Verfügung.\nBasisschulungen gibt es jeweils um 16:15 Uhr und 17:30 Uhr\, damit du auch sicher im Lab arbeiten kannst.
URL:https://spl.fh-joanneum.at/veranstaltung/fablab-weihnachtsspecial-be-the-maker-3/
LOCATION:Smart Production Lab\, Werk-VI-Straße 46\, Kapfenberg\, 8605
CATEGORIES:FabLab
END:VEVENT
BEGIN:VEVENT
DTSTART;TZID=Europe/Vienna:20241217T160000
DTEND;TZID=Europe/Vienna:20241217T200000
DTSTAMP:20260422T080653
CREATED:20240918T062146Z
LAST-MODIFIED:20240918T062148Z
UID:3151-1734451200-1734465600@spl.fh-joanneum.at
SUMMARY:FabLab Weihnachtsspecial- Be the maker
DESCRIPTION:Komm vorbei und verwirkliche deine Ideen – egal ob 3D-Druck\, Lasercut oder Sandstrahlen\, wir stellen dir die ideale Infrastruktur zum Basteln bereit. Und keine Angst: Unser FabLab-Team steht dir für Fragen und Support jederzeit zur Verfügung.\nBasisschulungen gibt es jeweils um 16:15 Uhr und 17:30 Uhr\, damit du auch sicher im Lab arbeiten kannst.
URL:https://spl.fh-joanneum.at/veranstaltung/fablab-weihnachtsspecial-be-the-maker/
LOCATION:Smart Production Lab\, Werk-VI-Straße 46\, Kapfenberg\, 8605
CATEGORIES:FabLab
END:VEVENT
END:VCALENDAR